BEGIN:VCALENDAR
VERSION:2.0
PRODID:-//Alitex - ECPv6.15.20//NONSGML v1.0//EN
CALSCALE:GREGORIAN
METHOD:PUBLISH
X-ORIGINAL-URL:https://www.alitex.co.uk
X-WR-CALDESC:Events for Alitex
REFRESH-INTERVAL;VALUE=DURATION:PT1H
X-Robots-Tag:noindex
X-PUBLISHED-TTL:PT1H
BEGIN:VTIMEZONE
TZID:Europe/London
BEGIN:DAYLIGHT
TZOFFSETFROM:+0000
TZOFFSETTO:+0100
TZNAME:BST
DTSTART:20250330T010000
END:DAYLIGHT
BEGIN:STANDARD
TZOFFSETFROM:+0100
TZOFFSETTO:+0000
TZNAME:GMT
DTSTART:20251026T010000
END:STANDARD
BEGIN:DAYLIGHT
TZOFFSETFROM:+0000
TZOFFSETTO:+0100
TZNAME:BST
DTSTART:20260329T010000
END:DAYLIGHT
BEGIN:STANDARD
TZOFFSETFROM:+0100
TZOFFSETTO:+0000
TZNAME:GMT
DTSTART:20261025T010000
END:STANDARD
BEGIN:DAYLIGHT
TZOFFSETFROM:+0000
TZOFFSETTO:+0100
TZNAME:BST
DTSTART:20270328T010000
END:DAYLIGHT
BEGIN:STANDARD
TZOFFSETFROM:+0100
TZOFFSETTO:+0000
TZNAME:GMT
DTSTART:20271031T010000
END:STANDARD
END:VTIMEZONE
BEGIN:VEVENT
DTSTART;TZID=Europe/London:20260620T090000
DTEND;TZID=Europe/London:20260620T130000
DTSTAMP:20260410T035437
CREATED:20250129T110803Z
LAST-MODIFIED:20260317T151800Z
UID:26292-1781946000-1781960400@www.alitex.co.uk
SUMMARY:June Open Event
DESCRIPTION:Drop into Alitex on Saturday 20th June\, to spark ideas for your greenhouse project! \nHere’s what you can do during your visit: \n\nWander through our beautiful greenhouse displays\, right here at Alitex HQ.\nTake a workshop tour and see how our greenhouses are made.\nChat with one of our experienced Sales Designers about your project—whether it’s for growing\, relaxing\, or both.\nExplore options for your dream greenhouse\, including styles and accessories.\nCollect a starter pack to help plan your glasshouse project.\n\nRegister your interest below- to come and explore & chat with our friendly team. \nWe’re here to help bring your vision to life! \n\n\n                \n                        \n                             \n                        \n                        Contact DetailsNumber of tickets needed(Required)Name(Required)\n                            \n                            \n                                                    First\n                                                    \n                                                \n                            \n                            \n                                                            Last\n                                                            \n                                                        \n                            \n                        Email(Required)\n                                \n                                    Enter Email\n                                    \n                                \n                                \n                                    Confirm Email\n                                    \n                                \n                                \n                            Phone numberAnything we should knowLet us know if you would like a specific time\, sales designer or have any questions ahead of time.
URL:https://www.alitex.co.uk/event/june-open-event/
LOCATION:Alitex Ltd
CATEGORIES:Alitex Event
ATTACH;FMTTYPE=image/png:https://www.alitex.co.uk/wp-content/uploads/2025/01/Untitled-design-2.png
END:VEVENT
END:VCALENDAR